BEGIN:VCALENDAR
PRODID:http://www.kufer.de/kuferweb / DE
VERSION:2.0
METHOD:PUBLISH
CALSCALE:GREGORIAN
X-WR-TIMEZONE:Europe/Berlin
BEGIN:VTIMEZONE
TZID:Europe/Berlin
X-LIC-LOCATION:Europe/Berlin
BEGIN:DAYLIGHT
TZOFFSETFROM:+0100
TZOFFSETTO:+0200
TZNAME:CEST
DTSTART;TZID=Europe/Berlin:19700329T020000
RRULE:FREQ=YEARLY;INTERVAL=1;BYDAY=-1SU;BYMONTH=3
END:DAYLIGHT
BEGIN:STANDARD
TZOFFSETFROM:+0200
TZOFFSETTO:+0100
TZNAME:CET
DTSTART;TZID=Europe/Berlin:19701025T030000
RRULE:FREQ=YEARLY;INTERVAL=1;BYDAY=-1SU;BYMONTH=10
END:STANDARD
END:VTIMEZONE
BEGIN:VEVENT
DTSTAMP:20260426T051716
DTSTART;TZID=Europe/Berlin:20260615T140000
DTEND;TZID=Europe/Berlin:20260615T170000
UID:26I004-20260615T140000@BIVWIEN
SUMMARY:Kreative Bildungstage_WS 3 Malen mal anders - Wie Farben alles verändern... (26I004) 
LOCATION:Bundesinstitut für Erwachsenenbildung St. Wolfgang, Bürglstein 1-7, 5360 St. Wolfgang
END:VEVENT
BEGIN:VEVENT
DTSTAMP:20260426T051716
DTSTART;TZID=Europe/Berlin:20260616T093000
DTEND;TZID=Europe/Berlin:20260616T123000
UID:26I004-20260616T093000@BIVWIEN
SUMMARY:Kreative Bildungstage_WS 3 Malen mal anders - Wie Farben alles verändern... (26I004) 
LOCATION:Bundesinstitut für Erwachsenenbildung St. Wolfgang, Bürglstein 1-7, 5360 St. Wolfgang
END:VEVENT
BEGIN:VEVENT
DTSTAMP:20260426T051716
DTSTART;TZID=Europe/Berlin:20260617T093000
DTEND;TZID=Europe/Berlin:20260617T170000
UID:26I004-20260617T093000@BIVWIEN
SUMMARY:Kreative Bildungstage_WS 3 Malen mal anders - Wie Farben alles verändern... (26I004) 
LOCATION:Bundesinstitut für Erwachsenenbildung St. Wolfgang, Bürglstein 1-7, 5360 St. Wolfgang
END:VEVENT
BEGIN:VEVENT
DTSTAMP:20260426T051716
DTSTART;TZID=Europe/Berlin:20260618T093000
DTEND;TZID=Europe/Berlin:20260618T120000
UID:26I004-20260618T093000@BIVWIEN
SUMMARY:Kreative Bildungstage_WS 3 Malen mal anders - Wie Farben alles verändern... (26I004) 
LOCATION:Bundesinstitut für Erwachsenenbildung St. Wolfgang, Bürglstein 1-7, 5360 St. Wolfgang
END:VEVENT
END:VCALENDAR