BEGIN:VCALENDAR
PRODID:http://www.kufer.de/kuferweb / DE
VERSION:2.0
METHOD:PUBLISH
CALSCALE:GREGORIAN
X-WR-TIMEZONE:Europe/Berlin
BEGIN:VTIMEZONE
TZID:Europe/Berlin
X-LIC-LOCATION:Europe/Berlin
BEGIN:DAYLIGHT
TZOFFSETFROM:+0100
TZOFFSETTO:+0200
TZNAME:CEST
DTSTART;TZID=Europe/Berlin:19700329T020000
RRULE:FREQ=YEARLY;INTERVAL=1;BYDAY=-1SU;BYMONTH=3
END:DAYLIGHT
BEGIN:STANDARD
TZOFFSETFROM:+0200
TZOFFSETTO:+0100
TZNAME:CET
DTSTART;TZID=Europe/Berlin:19701025T030000
RRULE:FREQ=YEARLY;INTERVAL=1;BYDAY=-1SU;BYMONTH=10
END:STANDARD
END:VTIMEZONE
BEGIN:VEVENT
DTSTAMP:20260426T034853
DTSTART;TZID=Europe/Berlin:20260422T100000
DTEND;TZID=Europe/Berlin:20260422T180000
UID:26MS28-20260422T100000@BIVWIEN
SUMMARY:Konflikte willkommen heißen und Mobbing verhindern (26MS28) 
LOCATION:biv - die Akademie für integrative Bildung, Mariahilferstraße 76/Stiege 7/Top 69 + Top 70B, 1070 Wien
END:VEVENT
BEGIN:VEVENT
DTSTAMP:20260426T034853
DTSTART;TZID=Europe/Berlin:20260423T090000
DTEND;TZID=Europe/Berlin:20260423T170000
UID:26MS28-20260423T090000@BIVWIEN
SUMMARY:Konflikte willkommen heißen und Mobbing verhindern (26MS28) 
LOCATION:biv - die Akademie für integrative Bildung, Mariahilferstraße 76/Stiege 7/Top 69 + Top 70B, 1070 Wien
END:VEVENT
END:VCALENDAR