BEGIN:VCALENDAR
PRODID:http://www.kufer.de/kuferweb / DE
VERSION:2.0
METHOD:PUBLISH
CALSCALE:GREGORIAN
X-WR-TIMEZONE:Europe/Berlin
BEGIN:VTIMEZONE
TZID:Europe/Berlin
X-LIC-LOCATION:Europe/Berlin
BEGIN:DAYLIGHT
TZOFFSETFROM:+0100
TZOFFSETTO:+0200
TZNAME:CEST
DTSTART;TZID=Europe/Berlin:19700329T020000
RRULE:FREQ=YEARLY;INTERVAL=1;BYDAY=-1SU;BYMONTH=3
END:DAYLIGHT
BEGIN:STANDARD
TZOFFSETFROM:+0200
TZOFFSETTO:+0100
TZNAME:CET
DTSTART;TZID=Europe/Berlin:19701025T030000
RRULE:FREQ=YEARLY;INTERVAL=1;BYDAY=-1SU;BYMONTH=10
END:STANDARD
END:VTIMEZONE
BEGIN:VEVENT
DTSTAMP:20260426T035559
DTSTART;TZID=Europe/Berlin:20260917T100000
DTEND;TZID=Europe/Berlin:20260917T180000
UID:26MW01-20260917T100000@BIVWIEN
SUMMARY:Technische Hilfen in der Unterstützten Kommunikation Aufbaukurs mit Zertifikat von GesUK e.V. (26MW01) 
LOCATION:Hotel Kolping GesmbH - Linz, Gesellenhausstraße 5, 4020 Linz
END:VEVENT
BEGIN:VEVENT
DTSTAMP:20260426T035559
DTSTART;TZID=Europe/Berlin:20260918T090000
DTEND;TZID=Europe/Berlin:20260918T170000
UID:26MW01-20260918T090000@BIVWIEN
SUMMARY:Technische Hilfen in der Unterstützten Kommunikation Aufbaukurs mit Zertifikat von GesUK e.V. (26MW01) 
LOCATION:Hotel Kolping GesmbH - Linz, Gesellenhausstraße 5, 4020 Linz
END:VEVENT
END:VCALENDAR