BEGIN:VCALENDAR
PRODID:http://www.kufer.de/kuferweb / DE
VERSION:2.0
METHOD:PUBLISH
CALSCALE:GREGORIAN
X-WR-TIMEZONE:Europe/Berlin
BEGIN:VTIMEZONE
TZID:Europe/Berlin
X-LIC-LOCATION:Europe/Berlin
BEGIN:DAYLIGHT
TZOFFSETFROM:+0100
TZOFFSETTO:+0200
TZNAME:CEST
DTSTART;TZID=Europe/Berlin:19700329T020000
RRULE:FREQ=YEARLY;INTERVAL=1;BYDAY=-1SU;BYMONTH=3
END:DAYLIGHT
BEGIN:STANDARD
TZOFFSETFROM:+0200
TZOFFSETTO:+0100
TZNAME:CET
DTSTART;TZID=Europe/Berlin:19701025T030000
RRULE:FREQ=YEARLY;INTERVAL=1;BYDAY=-1SU;BYMONTH=10
END:STANDARD
END:VTIMEZONE
BEGIN:VEVENT
DTSTAMP:20260426T045937
DTSTART;TZID=Europe/Berlin:20260930T110000
DTEND;TZID=Europe/Berlin:20260930T180000
UID:26MW30-20260930T110000@BIVWIEN
SUMMARY:Grundlagen im Case Management (26MW30) 
LOCATION:Bundesinstitut für Erwachsenenbildung St. Wolfgang, Bürglstein 1-7, 5360 St. Wolfgang
END:VEVENT
BEGIN:VEVENT
DTSTAMP:20260426T045937
DTSTART;TZID=Europe/Berlin:20260930T190000
DTEND;TZID=Europe/Berlin:20260930T210000
UID:26MW30-20260930T190000@BIVWIEN
SUMMARY:Grundlagen im Case Management (26MW30) 
LOCATION:Bundesinstitut für Erwachsenenbildung St. Wolfgang, Bürglstein 1-7, 5360 St. Wolfgang
END:VEVENT
BEGIN:VEVENT
DTSTAMP:20260426T045937
DTSTART;TZID=Europe/Berlin:20261001T090000
DTEND;TZID=Europe/Berlin:20261001T160000
UID:26MW30-20261001T090000@BIVWIEN
SUMMARY:Grundlagen im Case Management (26MW30) 
LOCATION:Bundesinstitut für Erwachsenenbildung St. Wolfgang, Bürglstein 1-7, 5360 St. Wolfgang
END:VEVENT
BEGIN:VEVENT
DTSTAMP:20260426T045937
DTSTART;TZID=Europe/Berlin:20261109T090000
DTEND;TZID=Europe/Berlin:20261109T170000
UID:26MW32-20261109T090000@BIVWIEN
SUMMARY:ONLINE Case Management auf Systemebene (26MW32) 
LOCATION:Zoom, , 
END:VEVENT
BEGIN:VEVENT
DTSTAMP:20260426T045937
DTSTART;TZID=Europe/Berlin:20261110T090000
DTEND;TZID=Europe/Berlin:20261110T170000
UID:26MW32-20261110T090000@BIVWIEN
SUMMARY:ONLINE Case Management auf Systemebene (26MW32) 
LOCATION:Zoom, , 
END:VEVENT
BEGIN:VEVENT
DTSTAMP:20260426T045937
DTSTART;TZID=Europe/Berlin:20261130T110000
DTEND;TZID=Europe/Berlin:20261130T180000
UID:26MW33-20261130T110000@BIVWIEN
SUMMARY:Case Management auf der Fallebene (26MW33) 
LOCATION:Bundesinstitut für Erwachsenenbildung St. Wolfgang, Bürglstein 1-7, 5360 St. Wolfgang
END:VEVENT
BEGIN:VEVENT
DTSTAMP:20260426T045937
DTSTART;TZID=Europe/Berlin:20261130T190000
DTEND;TZID=Europe/Berlin:20261130T210000
UID:26MW33-20261130T190000@BIVWIEN
SUMMARY:Case Management auf der Fallebene (26MW33) 
LOCATION:Bundesinstitut für Erwachsenenbildung St. Wolfgang, Bürglstein 1-7, 5360 St. Wolfgang
END:VEVENT
BEGIN:VEVENT
DTSTAMP:20260426T045937
DTSTART;TZID=Europe/Berlin:20261201T090000
DTEND;TZID=Europe/Berlin:20261201T160000
UID:26MW33-20261201T090000@BIVWIEN
SUMMARY:Case Management auf der Fallebene (26MW33) 
LOCATION:Bundesinstitut für Erwachsenenbildung St. Wolfgang, Bürglstein 1-7, 5360 St. Wolfgang
END:VEVENT
BEGIN:VEVENT
DTSTAMP:20260426T045937
DTSTART;TZID=Europe/Berlin:20270111T110000
DTEND;TZID=Europe/Berlin:20270111T180000
UID:26MW34-20270111T110000@BIVWIEN
SUMMARY:Case Management praktisch umgesetzt - "Vom Wissen ins Handeln" (26MW34) 
LOCATION:Bundesinstitut für Erwachsenenbildung St. Wolfgang, Bürglstein 1-7, 5360 St. Wolfgang
END:VEVENT
BEGIN:VEVENT
DTSTAMP:20260426T045937
DTSTART;TZID=Europe/Berlin:20270111T190000
DTEND;TZID=Europe/Berlin:20270111T210000
UID:26MW34-20270111T190000@BIVWIEN
SUMMARY:Case Management praktisch umgesetzt - "Vom Wissen ins Handeln" (26MW34) 
LOCATION:Bundesinstitut für Erwachsenenbildung St. Wolfgang, Bürglstein 1-7, 5360 St. Wolfgang
END:VEVENT
BEGIN:VEVENT
DTSTAMP:20260426T045937
DTSTART;TZID=Europe/Berlin:20270112T090000
DTEND;TZID=Europe/Berlin:20270112T170000
UID:26MW34-20270112T090000@BIVWIEN
SUMMARY:Case Management praktisch umgesetzt - "Vom Wissen ins Handeln" (26MW34) 
LOCATION:Bundesinstitut für Erwachsenenbildung St. Wolfgang, Bürglstein 1-7, 5360 St. Wolfgang
END:VEVENT
BEGIN:VEVENT
DTSTAMP:20260426T045937
DTSTART;TZID=Europe/Berlin:20270113T090000
DTEND;TZID=Europe/Berlin:20270113T160000
UID:26MW34-20270113T090000@BIVWIEN
SUMMARY:Case Management praktisch umgesetzt - "Vom Wissen ins Handeln" (26MW34) 
LOCATION:Bundesinstitut für Erwachsenenbildung St. Wolfgang, Bürglstein 1-7, 5360 St. Wolfgang
END:VEVENT
END:VCALENDAR